Workbook

Sheet Setup
A1: Danner HTT-indberetningen
H2: Årstal | I2: Kvartal | J2: Kapitalcenter | K2: Måned | L2: Rapporteringsdato | M2: Cut-off date
H3: 2026 | I3: Q3 | J3: H | K3: 09 | L3: 31/10/26 | M3: 30/09/26
L5: Format-eksempel:
L6: 31/03/24
A18: Danner NTT-indberetningen
A39: Sti til HTT-rapporting
A40: {="S:\Product_Reporting\3_Ekstern\3002 HTT NTT\"&$H$3&"-"&Table1[Måned]&"\3002_05 HTT\"} -> S:\Product_Reporting\3_Ekstern\3002 HTT NTT\2026-09\3002_05 HTT\
A41: Kapitalcenter
A42: {=Table1[Kapitalcenter]} -> H
A43: {=Table1[Årstal]&"_"&Table1[Kvartal]} -> 2026_Q3
A44: {="S:\Product_Reporting\3_Ekstern\3002 HTT NTT\"&$H$3&"-"&Table1[Måned]&"\3002_06 NTT\"} -> S:\Product_Reporting\3_Ekstern\3002 HTT NTT\2026-09\3002_06 NTT\
A45: {="S:\ECBC Labbeling af Covered Bonds\"&Table1[Årstal]&Table1[Kvartal]&"\Til S&P\"} -> S:\ECBC Labbeling af Covered Bonds\2026Q3\Til S&P\
A46: Mulige kapitalcentre
A47: D
A48: E
A49: G
A50: H
A51: I
A52: Residual
A54: Mulige kvartaler
A55: Q1
A56: Q2
A57: Q3
A58: Q4
... A64: 12
A66: {="S:\ECBC Labbeling af Covered Bonds\"&Table1[Årstal]&Table1[Kvartal]&"\"} -> S:\ECBC Labbeling af Covered Bonds\2026Q3\

Sheet Disclaimer
A1: Disclaimer - Important notices
A4: (i) The Product Information displayed on this Site has been uploaded by the Issuers of the relevant Products. None of the information displayed on this Site shall form the basis of any contract. Any User of this Site will be required to acknowledge that it has not relied on, or been induced to enter into any contract by, any representation or warranty.
A5: (ii) The Covered Bond Label Foundation has not independently verified the Product Information displayed on this Site. Accordingly, no representation, warranty or undertaking, express or implied, is made, and no responsibility is accepted, by the Covered Bond Label Foundation as to or in relation to the accuracy or completeness or otherwise of such Product Information."
A6: (iii) The information provided on or accessible through the Site is not intended for distribution to, or use by, any person or entity in any jurisdiction where such distribution or use would be contrary to local law, or which would subject us or any Issuer, to any authorisation, registration or other requirement within such jurisdiction. You agree not to use or export the information or materials available on or through this Site in violation of laws in your jurisdiction.
A8: TERMS OF USE
A9: This website www.coveredbondlabel.com (the "Site") is owned and operated by the Covered Bond Label Foundation (the Covered Bond Label Foundation together with its affiliates, "we" or "us") a Private Foundation (fondation privée / private stichting) registered in Belgium; whose registered office is at Rue de la Science 14 - 1040 Brussels - Belgium and registered under number 500.950.659 (RPR/RPM Brussels).
A10: The Site is intended for use as a directory of information relating to certain covered bond products ("Products") (the "Product Information") by an issuer of ("Issuer"), or potential investor in ("Investor"), such Products (an Issuer, Investor, or any other person accessing this Site, each a "User" or "you"). The Product Information is provided by each relevant Issuer, and remains at all times the sole responsibility of the relevant Issuer. We have not independently verified any Product Information, nor reviewed whether any Product for which information is available on the Site actually is a covered bond product. This Site or any label made available through it does not constitute, nor contain, any form of credit rating, any offer to sell (or the solicitation of an offer to purchase) any Product, nor does it constitute a recommendation, or investment advice (or any other type of advice) upon which reliance should be placed.
A11: These terms and conditions together with the documents referred to in them set out the terms of use ("T&Cs") on which (a) an Issuer; (b) Investor; or (c) any other User, may make use of the Site. Section A applies primarily to Investors, and Section B applies primarily to Issuers. The General T&Cs in Section C apply to all Users.
A12: Our Acceptable Use Policy and Privacy Policy are incorporated into these T&Cs.
A13: Please read the T&Cs carefully before you start to use the Site. By clicking 'Accept' you indicate that you accept these T&Cs and that you agree to abide by them.
A14: If any provision of these T&Cs shall be deemed unlawful, void or for any reason unenforceable, then that provision shall be deemed severable from these terms and shall not affect the validity and enforceability of any remaining provisions.
A16: SECTION A. INVESTOR T&Cs
... A169: If you have any questions about this policy, the collection and use of your personal information or other privacy-specific concerns please contact us by clicking on Contact Us .

Sheet Introduction
F5: Harmonised Transparency Template
D6: 2026 Version
F7: Denmark
F8: Nykredit Realkredit - Capital Center H
F9: Reporting Date: 31/10/26
F10: Cut-off Date: 30/09/26
F22: Index
D24: Worksheet A: HTT General | E24: Tab 1: Harmonised Transparency Template
D26: Worksheet B1: HTT Mortgage Assets
D28: Worksheet B2: HTT Public Sector Assets | E28: Tab 1: Harmonised Transparency Template
D30: Worksheet B3: HTT Shipping Assets | E30: Tab 1: Harmonised Transparency Template
D32: Worksheet C: HTT Harmonised Glossary | E32: Tab 1: Harmonised Transparency Template
D34: Covered Bond Label Disclaimer | E34: Tab 1: Harmonised Transparency Template
D36: Worksheet D & Onwards (If Any): National Transparency Template
D38: Worksheet E: Optional ECB-ECAIs data
D40: Worksheet F1: Sustainable M data | E40: Tab 1: Harmonised Transparency Template

Sheet Completion Instructions
F5: Completion Instructions
F7: Please delete this tab once you have completed this file
C9: 1. Every pool has one separate HTT. Issuers with more than one cover pool have to present as many separate HTTs as the number of pools.
C10: 2. All cells that include “[For completion]” and “[Mark as ND if not relevant]” needs to be completed
C11: 3. The "[For completion]" or "[Mark as ND if not relevant]" cells could be filled with:
D12: 3.A Numbers: Please insert the appropriate data
D13: 3.B Letters: Please insert either No Data (ND)
D14: (i) ND1: Please complete the cell with ND1 when the information is not applicable for the jurisdiction
D15: (ii) ND2: Please complete the cell with ND2 when the information is not relevant for the issuer and/or CB programme at the present time
D16: (iii) ND3: Please complete the cell with ND3 when the information is not available at the present time
D17: (iv) ND4: Please complete the cell with ND4 when the information is confidential
C18: 4. Please note that the percentage cells will be automatically completed by the spreadsheet.
C19: 5. The wording of the tabs referring to the HTT (the ones with an orange tab colour) are not to be changed.
C20: 6. Should you wish to insert your National Transparency Template worksheet(s) in the HTT, please follow our instructions in the box below.
D21: Please do not forget to change the name of the worksheet in order to be consistent with the numbering of the existing ones (starting with D.).
D22: Please update the Introduction Tab accordingly.
C23: 7. Please delete tab D (Insert National Transparency Template) and the example tabs if unused.
D24: Please update the introduction Tab accordingly.
C25: 8. Should you make references to external documents or cells in this document, please insert the hyperlink.
C26: 9. Since HTT 2018 various fields as well as the amount of rows and columns are blocked in order to guarantee the uniformity of the HTT architecture which enables to run automated reporting programs. In order to guarantee this uniformity the Secretariat will not provide 'unprotected' HTTs to the issuers
C28: 10. Since the loan bucket size of the loan size information (Tab. B1 HTT mortgage Assets - section 7.10 and 7.15, Tab. B2 HTT Public Sector Assets - section 8.2, Tab B3. HTT Shipping Assets - section 9.8) is decided at national level, please follow the agreed dispositions which can be found in the HTT Completion Guideline
C30: 11. Since the regional breakdown denomination (Tab. B1 HTT Mortgage Assets - section 7.5., Tab B2 HTT Public Sector Assets - section 8.5) is decided at national level, please follow the agreed dispositions which can be found in the HTT Completion Guideline
C32: 12. For your information Legal Entity Identifier (LEI) for counterparty information may be found in http://www.lei-lookup.com/#!search
C33: 13. For any further questions on how to complete the HTT please consult in the following order:
D34: (i) the HTT Completion Guideline
D35: (ii) the relevant National Coordinator
D36: (iii) the Covered Bond Label Secretariat
C47: How to import an excel worksheet
C49: 1. Click on the tab of the worksheet you want to import | G49: 3. Select the excel file where you want to transfer your worksheet from the dropdown menu
C50: 2. Select "Move or Copy" | G50: 4. In the box Before Sheet, please select "(move to end)"
C51: 3 | G51: 5. Do not forget to tick the "Create a copy" box and press ok
C75: Updates for HTT 2026
C76: 0. All worksheets: Update the year of the HTT template next to the title of each
C77: 1. All worksheets: Highlight the locked cells in orange in order to see which cells are to be filled in
C78: 2. Worksheet “A. HTT General”: Harmonisation of all cells showing one decimal
C79: 3. Worksheet “A. HTT General": cell C58: appartition of an error message if the values between cells C38 and C58 are different
C80: 4. Worksheet “A. HTT General”: cell D157: a formula has been added that warns the issuer when the Nominal after hedging is different than the nominal before hedging.
C81: 5. Worksheet “A. HTT General”: add cell that asks "OC in accordance with the National Legal Framework"
C82: 6. Worksheet “B1. HTT Mortgage Assets”: Change the name of the cells C238 to C248 from “[Mark as ND1 if not relevant]” to “[For completion]”
C83: 7. Worksheet “B1. HTT Mortgage Assets”: Change the name of the cell B368 from “New Property” to “Under Construction”
...

Sheet FAQ
A1: Frequently Asked Questions (FAQ)
A2: Please delete this tab once you have completed this file
C4: Harmonised Transparency Template - Frequently Asked Questions
A5: General Questions
A6: Question 1: What is the structure of the Harmonised Transparency Template (HTT)?
B7: Response 1 | C7: The HTT contains 5 main worksheets (A, B1, B2, B3 and C). The first worksheet (A) includes the HTT general information. The second worksheet (B1) presents the mortgage information. The third worksheet (B2) contains the public sector information. The fourth worksheet (B3) contains shipping information.The fifth worksheet (C) represents the HTT glossary, which has a harmonised section across jurisdictionsat the top, but also a section for national specificities below. Any additional tabs (D, E, etc.), will contain the National Transparency Template (NTT) information where relevant.
A8: Question 2: Is the HTT going to replace the National Transparency Template (NTT)?
B9: Response 2 | C9: The HTT is compulsory in order to be considered Covered Bond Label compliant. The NTT can be added in order to provide further information at national discretion.
A10: Question 3: What is the reporting frequency of the HTT?
B11: Response 3 | C11: The reporting of the HTT is the same as the reporting of the National Transparency Template (NTT), i.e. at least quarterly.
A12: Question 4: Where should the HTT be posted?
B13: Response 4 | C13: The HTT should be posted in the same location as the National Transparency Template (NTT) is currently posted, i.e. on the issuer's website. There is no common platform for the HTT.
A14: Question 5: In what format the HTT should be disclosed?
B15: Response 5 | C15: The HTT should be disclosed in Excel format in so far as it is possible, as already suggested by the Label Advisory Council and investors. Where issuers are currently providing the Template in both Excel and PDF formats, they are encouraged to continue to do so.
A16: Question 6: Where can I find the reporting date?
B17: Response 6 | C17: The reporting date can be found in the Introduction Tab and in the "Basic Facts" section of worksheet A.
A18: Question 7: What happens when I cannot complete a section of the HTT?
B19: Response 7 | C19: When the information is either (i) not applicable for the jurisdiction, (ii) not relevant for the issuer and/or CB programme at the present time; (iii) not available at the present time; or (iv) confidential. Issuers are kindly requested to include ND1, ND2, ND3 or ND4 respectively.
A20: Specific Questions
A21: Question 8: Does the Harmonised Transparency Template only contain disaggregated information for mortgages and public sector?
B22: Response 8 | C22: Indeed, the HTT only provides disaggregated information for mortgage and public sector assets which represent 99.6% of total outstanding. Information in more detail on other collateral types can always be included in worksheet E, which may contains the National Transparency Template (NTT).
A23: Question 9: How should the "liquid assets" be calculated in the section 3 "General Cover Pool / Covered Bond Information" of the HTT?
B24: Response 9 | C24: Liquid assets are defined as central bank eligible assets, substitute and other marketable assets. This total is calculated over both outstanding covered bonds and outstanding cover assets.
A25: Question 10: How should the "expected" and "contractual" columns of the "Cover pool amortisation profile" be understood?
B26: Response 10 | C26: Contractual maturities assume no prepayment scenario unlike expected maturities. Jurisdictions/issuers publishing the two should disclosed their prepayment assumptions for the latter.
A27: Question 11: How should the hedging columns included in section 3 "General Cover Pool / Covered Bond Information" of the HTT be understood?
B28: Response 11 | C28: The currency breakdown before/after hedging aims to assess the potential currency mismatch on the asset and liability sides. This is supplemented by explanations on the issuer's hedging strategy in the Harmonised Glossary.
A29: Question 12: How should the cover assets and covered bonds distribution by currency be populated in section 3.6 and 3.7 in Tab A. HTT General?
B30: Response 12 | C30: In the columns titled "Nominal [before hedging]" and "Nominal [after hedging]" if there is no hedging activity also the amounts for the single currencies should be the same in the two columns. Should there be hedging activity then the currency into which the outstanding has been swapped will receive the respective amount. For example, if all outstanding have been swapped into one currency, only this currency will see a positive amount in the after hedging section. The sum of the columns must match the figures reported under "Total Cover Assets", respectively "Outstanding Covered Bonds" in Section 3.1 of Tab A. HTT General.
A31: Question 13: How should the covered bonds distribution by interest rate be populated in section 3.8 in Tab A. HTT General?
B32: Response 13 | C32: In the columns titled "Nominal [after hedging]", all amounts must be inserted in the line for the interest rate type they have been swapped into. For example, if all outstanding amounts have been swapped into floating rate, only this line should be filled. Total amounts should show the same figures both before and after hedging.
A33: Question 14: How should arrears be populated in Tab E. Optional ECB-ECAIs data?
B34: Response 14 | C34: Performing loans should be excluded from the "1-<30 days" bucket. If a loan is in arrears, please report the entire principal amount for the loan, not just the instalment that is in arrears.
A35: Question 15: What is the Cover Pools' FIGI identifier and where can I find it?
B36: Response 15 | C36: FIGI is a 12-character alphanumeric ID used to differentiate and map information associated to cover pools. Each pool has a unique FIGI ID which cannot be re-used. You can search for existing FIGI ID's for cover pools on the Bloomberg Terminal or on the openfigi.com webpage. Bloomberg is a certified provider and will facilitate to request a FIGI ID for new pools. Requests can be send with relevant documentation via email to emeacapmkts@bloomberg.net. We would like to underline that the inclusion of the FIGI number in your HTT is on a voluntary basis.

Sheet A. HTT General
A1: A. Harmonised Transparency Template - General Information | F1: HTT 2026
B3: Reporting in Domestic Currency | C3: DKK
B5: CONTENT OF TAB A
B6: 1. Basic Facts
B7: 2. Regulatory Summary
B8: 3. General Cover Pool / Covered Bond Information | F8: `
B9: 4. Compliance Art 14 CBD Check Table
B10: 5. References to Capital Requirements Regulation (CRR) 129(1)
B11: 6. Other relevant information
A13: Field Number | B13: 1. Basic Facts
A14: G.1.1.1 | B14: Country | C14: Denmark
A15: G.1.1.2 | B15: Issuer Name | C15: Nykredit Realkredit A/S
A16: G.1.1.3 | B16: Labelled Cover Pool Name | C16: {="Capital Cener "&Table1[Kapitalcenter]} -> Capital Cener H
A17: G.1.1.4 | B17: Link to Issuer's Website | C17: Investor Relations (nykredit.com)
A18: G.1.1.5 | B18: Cut-off date | C18: {=Table1[Cut-off date]} -> 30/09/26
A19: G.1.1.6 | B19: Cover Pool's FIGI Identifier (non-mandatory) | C19: [For completion]
A20: OG.1.1.2 | B20: Optional information e.g. Contact names
A21: OG.1.1.3 | B21: Optional information e.g. Parent name
A22: OG.1.1.4
A23: OG.1.1.5
A24: OG.1.1.6
A25: OG.1.1.7
B26: 2. Regulatory Summary
A27: G.2.1.1 | B27: Basel Compliance, subject to national jurisdiction (Y/N) | C27: Y
A28: G.2.1.2 | B28: CBD Compliance | C28: Y | W28: Yes
A29: G.2.1.3 | B29: CRR Compliance (Y/N) | C29: Y | W29: No
A30: OG.2.1.1 | B30: LCR status | C30: Nykredit Realkredit A/S :: Covered Bond Label | W30: Non-EEA, Art 14 CBD compliant
A31: OG.2.1.2
A32: OG.2.1.3
A33: OG.2.1.4
A34: OG.2.1.5
A35: OG.2.1.6
B36: 3. General Cover Pool / Covered Bond Information
B37: 1.General Information | C37: Nominal (mn)
A38: G.3.1.1 | B38: Total Cover Assets | C38: =C39+C56 -> 947478.7
A39: G.3.1.2 | B39: Outstanding Covered Bonds | C39: =C77 -> 920944.5
A40: OG.3.1.1 | B40: Cover Pool Size [NPV] (mn) | C40: ND1
A41: OG.3.1.2 | B41: Outstanding Covered Bonds [NPV] (mn) | C41: ND1
A42: OG.3.1.3
A43: OG.3.1.4
...

Sheet A. Input
A1: kapitalcenter | B1: field_number | C1: kolonne1
A2: D | B2: G.3.4.3
A3: D | B3: G.3.4.4
A4: D | B4: G.3.4.5
A5: D | B5: G.3.4.6
A6: D | B6: G.3.4.7
A7: D | B7: G.3.4.8 | C7: 7290.9142
A8: D | B8: G.3.5.3
A9: D | B9: G.3.5.4
A10: D | B10: G.3.5.5
A11: D | B11: G.3.5.6
A12: D | B12: G.3.5.7
A13: D | B13: G.3.5.8
A14: D | B14: G.3.5.9 | C14: 7290.9142
A15: D | B15: G.3.6.1 | C15: 5.9210458
A16: D | B16: G.3.6.16
A17: D | B17: G.3.6.7 | C17: 7284.9932
A18: D | B18: G.3.8.1 | C18: 789.6842
A19: D | B19: G.3.8.2 | C19: 3815.3945
A20: D | B20: G.3.8.3 | C20: 2685.8355
A21: E | B21: G.3.4.3
A22: E | B22: G.3.4.4
A23: E | B23: G.3.4.5 | C23: 2.2402481
A24: E | B24: G.3.4.6 | C24: 1.7339713
A25: E | B25: G.3.4.7 | C25: 320.41906
A26: E | B26: G.3.4.8 | C26: 551585.2
A27: E | B27: G.3.5.3
A28: E | B28: G.3.5.4
A29: E | B29: G.3.5.5
A30: E | B30: G.3.5.6 | C30: 2.4582038
A31: E | B31: G.3.5.7 | C31: 1.7339713
A32: E | B32: G.3.5.8 | C32: 337.4869
A33: E | B33: G.3.5.9 | C33: 551567.92
A34: E | B34: G.3.6.1 | C34: 5.3144888
A35: E | B35: G.3.6.16
A36: E | B36: G.3.6.7 | C36: 551904.28
A37: E | B37: G.3.8.1 | C37: 551035.85
A38: E | B38: G.3.8.2 | C38: 673.67559
A39: E | B39: G.3.8.3 | C39: 200.07088
A40: G | B40: G.3.4.3
...

Sheet B1. HTT Mortgage Assets
A1: B1. Harmonised Transparency Template - Mortgage Assets | F1: HTT 2026
B3: Reporting in Domestic Currency | C3: DKK
B5: CONTENT OF TAB B1
B6: 7. Mortgage Assets
B7: 7.A Residential Cover Pool
B8: 7.B Commercial Cover Pool
A10: Field Number | B10: 7. Mortgage Assets
B11: 1. Property Type Information | C11: Nominal (mn) | F11: % Total Mortgages
A12: M.7.1.1 | B12: Residential | C12: 730274.21 | F12: =IF($C$15=0,"",IF(C12="[for completion]","",C12/$C$15)) -> 0.79296224
A13: M.7.1.2 | B13: Commercial | C13: 190670.28 | F13: =IF($C$15=0,"",IF(C13="[for completion]","",C13/$C$15)) -> 0.20703776
A14: M.7.1.3 | B14: Other | C14: 0 | F14: =IF($C$15=0,"",IF(C14="[for completion]","",C14/$C$15)) -> 0
A15: M.7.1.4 | B15: Total | C15: =SUM(C12:C14) -> 920944.5 | F15: =SUM(F12:F14) -> 1
A16: OM.7.1.1 | B16: o/w Housing Cooperatives / Multi-family assets | F16: =IF($C$15=0,"",IF(C16="[for completion]","",C16/$C$15)) -> 0
A17: OM.7.1.2 | B17: o/w Forest & Agriculture | F17: =IF($C$15=0,"",IF(C17="[for completion]","",C17/$C$15)) -> 0
A18: OM.7.1.3 | B18: o/w [If relevant, please specify] | F18: =IF($C$15=0,"",IF(C18="[for completion]","",C18/$C$15)) -> 0
A19: OM.7.1.4 | B19: o/w [If relevant, please specify] | F19: =IF($C$15=0,"",IF(C19="[for completion]","",C19/$C$15)) -> 0
A20: OM.7.1.5 | B20: o/w [If relevant, please specify] | F20: =IF($C$15=0,"",IF(C20="[for completion]","",C20/$C$15)) -> 0
A21: OM.7.1.6 | B21: o/w [If relevant, please specify] | F21: =IF($C$15=0,"",IF(C21="[for completion]","",C21/$C$15)) -> 0
A22: OM.7.1.7 | B22: o/w [If relevant, please specify] | F22: =IF($C$15=0,"",IF(C22="[for completion]","",C22/$C$15)) -> 0
A23: OM.7.1.8 | B23: o/w [If relevant, please specify] | F23: =IF($C$15=0,"",IF(C23="[for completion]","",C23/$C$15)) -> 0
A24: OM.7.1.9 | B24: o/w [If relevant, please specify] | F24: =IF($C$15=0,"",IF(C24="[for completion]","",C24/$C$15)) -> 0
A25: OM.7.1.10 | B25: o/w [If relevant, please specify] | F25: =IF($C$15=0,"",IF(C25="[for completion]","",C25/$C$15)) -> 0
A26: OM.7.1.11 | B26: o/w [If relevant, please specify] | F26: =IF($C$15=0,"",IF(C26="[for completion]","",C26/$C$15)) -> 0
B27: 2. General Information | C27: Residential Loans | D27: Commercial Loans | F27: Total Mortgages
A28: M.7.2.1 | B28: Number of mortgage loans | C28: 344869 | D28: 20637 | F28: =IF(AND(C28="[For completion]",D28="[For completion]"),"[For completion]",SUM(C28:D28)) -> 365506
A29: OM.7.2.1 | B29: Optional information eg, Number of borrowers
A30: OM.7.2.2 | B30: Optional information eg, Number of guarantors
A31: OM.7.2.3
A32: OM.7.2.4
A33: OM.7.2.5
A34: OM.7.2.6
B35: 3. Concentration Risks | C35: % Residential Loans | D35: % Commercial Loans | F35: % Total Mortgages
A36: M.7.3.1 | B36: 10 largest exposures | C36: 0.014460287 | D36: 0.054861487 | F36: 0.013355519
A37: OM.7.3.1
A38: OM.7.3.2
A39: OM.7.3.3
A40: OM.7.3.4
A41: OM.7.3.5
A42: OM.7.3.6
B43: 4. Breakdown by Geography | C43: % Residential Loans | D43: % Commercial Loans | F43: % Total Mortgages
...

Sheet B1. Input
A1: kapitalcenter | B1: field_number | C1: kolonne1 | D1: kolonne2 | E1: kolonne3
A2: D | B2: M.7.1.1 | C2: 3923.4836
A3: D | B3: M.7.1.2 | C3: 3367.4306
A4: D | B4: M.7.2.1 | C4: 9789 | D4: 416
A5: D | B5: M.7.3.1 | C5: 0.084220053 | D5: 0.88486655 | E5: 0.42242288
A6: D | B6: M.7.4.10
A7: D | B7: M.7.4.11 | C7: 0.000707252 | E7: 0.00038059584
A8: D | B8: M.7.4.12 | C8: 8.6604472e-05 | E8: 4.6604749e-05
A9: D | B9: M.7.4.27 | C9: 0.0040563046 | E9: 0.0021828326
A10: D | B10: M.7.4.28 | D10: 0.58737662 | E10: 0.27128971
A11: D | B11: M.7.4.35 | D11: 0.28062939 | E11: 0.12961338
A12: D | B12: M.7.4.8 | C12: 0.99514984 | D12: 0.13199398 | E12: 0.59648688
A13: D | B13: M.7.5.1 | C13: 0.21729291 | D13: 0.12109672 | E13: 0.20746123
A14: D | B14: M.7.5.2 | C14: 0.21890696 | D14: 0.19617807 | E14: 0.21658396
A15: D | B15: M.7.5.3 | C15: 0.10837043 | D15: 0.067849537 | E15: 0.10422901
A16: D | B16: M.7.5.4 | C16: 0.19298691 | D16: 0.25661063 | E16: 0.19948954
A17: D | B17: M.7.5.5 | C17: 0.26244279 | D17: 0.35826504 | E17: 0.27223626
A18: D | B18: M.7.6.1 | C18: 0.19159525 | D18: 0.011273689 | E18: 0.10831072
A19: D | B19: M.7.7.1 | C19: 0.14611563 | D19: 0.92524993 | E19: 0.50597183
A20: D | B20: M.7.7.2 | C20: 0.85388437 | D20: 0.074750065 | E20: 0.49402817
A21: D | B21: M.7.8.1
A22: D | B22: M.7.8.2
A23: D | B23: M.7.8.3
A24: D | B24: M.7.8.4
A25: D | B25: M.7.8.5 | C25: 1 | D25: 1 | E25: 1
A26: D | B26: M.7.9.1 | C26: 0.005921581 | D26: 3.6528623e-05 | E26: 0.0032034712
A27: D | B27: M.7A.10.2 | C27: 3242.0489 | D27: 9709
A28: D | B28: M.7A.10.3 | C28: 159.52259 | D28: 48
A29: D | B29: M.7A.10.4 | C29: 263.04213 | D29: 26
A30: D | B30: M.7A.10.5 | C30: 69.971 | D30: 3
A31: D | B31: M.7A.10.6 | C31: 188.899 | D31: 3
A32: D | B32: M.7A.10.7 | D32: 0
A33: D | B33: M.7A.12.1 | C33: 0.30974753
A34: D | B34: M.7A.12.2 | C34: 3551.5477
A35: D | B35: M.7A.12.3 | C35: 157.02762
A36: D | B36: M.7A.12.4 | C36: 73.20442
A37: D | B37: M.7A.12.5 | C37: 56.843956
A38: D | B38: M.7A.12.6 | C38: 40.764079
A39: D | B39: M.7A.12.7 | C39: 15.261134
A40: D | B40: M.7A.12.8 | C40: 10.109401
...

Sheet B2. HTT Public Sector Assets
A1: B2. Harmonised Transparency Template - Public Sector Assets | F1: HTT 2026
B3: Reporting in Domestic Currency | C3: [Please insert currency]
B5: CONTENT OF TAB B2
B6: 8. Public Sector Assets
A8: Field Number | B8: 8. Public Sector Assets
B9: 1. General Information
A10: PS.8.1.1 | B10: Number of public sector exposures | C10: [For completion]
A11: OPS.8.1.1 | B11: Optional information eg, Number of borrowers
A12: OPS.8.1.2 | B12: Optional information eg, Number of guarantors
A13: OPS.8.1.3
A14: OPS.8.1.4
A15: OPS.8.1.5
A16: OPS.8.1.6
A17: OPS.8.1.7
B18: 2. Size Information | C18: Nominal | D18: Number of Exposures | F18: % Public Sector Assets | G18: % No. of Exposures
A19: PS.8.2.1 | B19: Average exposure size (000s) | C19: [For completion]
B21: By buckets (mn):
A22: PS.8.2.2 | B22: TBC at a country level | C22: [For completion] | D22: [For completion] | F22: =IF($C$37=0,"",IF(C22="[for completion]","",C22/$C$37)) | G22: =IF($D$37=0,"",IF(D22="[for completion]","",D22/$D$37))
A23: PS.8.2.3 | B23: TBC at a country level | C23: [For completion] | D23: [For completion] | F23: =IF($C$37=0,"",IF(C23="[for completion]","",C23/$C$37)) | G23: =IF($D$37=0,"",IF(D23="[for completion]","",D23/$D$37))
A24: PS.8.2.4 | B24: TBC at a country level | C24: [For completion] | D24: [For completion] | F24: =IF($C$37=0,"",IF(C24="[for completion]","",C24/$C$37)) | G24: =IF($D$37=0,"",IF(D24="[for completion]","",D24/$D$37))
A25: PS.8.2.5 | B25: TBC at a country level | C25: [For completion] | D25: [For completion] | F25: =IF($C$37=0,"",IF(C25="[for completion]","",C25/$C$37)) | G25: =IF($D$37=0,"",IF(D25="[for completion]","",D25/$D$37))
A26: PS.8.2.6 | B26: TBC at a country level | C26: [For completion] | D26: [For completion] | F26: =IF($C$37=0,"",IF(C26="[for completion]","",C26/$C$37)) | G26: =IF($D$37=0,"",IF(D26="[for completion]","",D26/$D$37))
A27: PS.8.2.7 | B27: TBC at a country level | C27: [For completion] | D27: [For completion] | F27: =IF($C$37=0,"",IF(C27="[for completion]","",C27/$C$37)) | G27: =IF($D$37=0,"",IF(D27="[for completion]","",D27/$D$37))
A28: PS.8.2.8 | B28: TBC at a country level | C28: [For completion] | D28: [For completion] | F28: =IF($C$37=0,"",IF(C28="[for completion]","",C28/$C$37)) | G28: =IF($D$37=0,"",IF(D28="[for completion]","",D28/$D$37))
A29: PS.8.2.9 | B29: TBC at a country level | C29: [For completion] | D29: [For completion] | F29: =IF($C$37=0,"",IF(C29="[for completion]","",C29/$C$37)) | G29: =IF($D$37=0,"",IF(D29="[for completion]","",D29/$D$37))
A30: PS.8.2.10 | B30: TBC at a country level | C30: [For completion] | D30: [For completion] | F30: =IF($C$37=0,"",IF(C30="[for completion]","",C30/$C$37)) | G30: =IF($D$37=0,"",IF(D30="[for completion]","",D30/$D$37))
A31: PS.8.2.11 | B31: TBC at a country level | C31: [For completion] | D31: [For completion] | F31: =IF($C$37=0,"",IF(C31="[for completion]","",C31/$C$37)) | G31: =IF($D$37=0,"",IF(D31="[for completion]","",D31/$D$37))
A32: PS.8.2.12 | B32: TBC at a country level | C32: [For completion] | D32: [For completion] | F32: =IF($C$37=0,"",IF(C32="[for completion]","",C32/$C$37)) | G32: =IF($D$37=0,"",IF(D32="[for completion]","",D32/$D$37))
A33: PS.8.2.13 | B33: TBC at a country level | C33: [For completion] | D33: [For completion] | F33: =IF($C$37=0,"",IF(C33="[for completion]","",C33/$C$37)) | G33: =IF($D$37=0,"",IF(D33="[for completion]","",D33/$D$37))
... A36: PS.8.2.16 | B36: TBC at a country level | C36: [For completion] | D36: [For completion] | F36: =IF($C$37=0,"",IF(C36="[for completion]","",C36/$C$37)) | G36: =IF($D$37=0,"",IF(D36="[for completion]","",D36/$D$37))
A37: PS.8.2.17 | B37: Total | C37: =SUM(C22:C36) -> 0 | D37: =SUM(D22:D36) -> 0 | F37: =SUM(F22:F36) -> 0 | G37: =SUM(G22:G36) -> 0
B38: 3. Breakdown by Asset Type | C38: Nominal (mn) | F38: % Public Sector Assets
A39: PS.8.3.1 | B39: Loans | C39: [For completion] | F39: =IF($C$42=0,"",IF(C39="[for completion]","",C39/$C$42))
A40: PS.8.3.2 | B40: Bonds | C40: [For completion] | F40: =IF($C$42=0,"",IF(C40="[for completion]","",C40/$C$42))
A41: PS.8.3.3 | B41: Other | C41: [For completion] | F41: =IF($C$42=0,"",IF(C41="[for completion]","",C41/$C$42))
A42: PS.8.3.4 | B42: Total | C42: =SUM(C39:C41) -> 0 | F42: =SUM(F39:F41) -> 0
A43: OPS.8.3.1
A44: OPS.8.3.2
A45: OPS.8.3.3
A46: OPS.8.3.4
...

Sheet B3. HTT Shipping Assets
A1: B3. Harmonised Transparency Template - Shipping Assets | F1: HTT 2026
B3: Reporting in Domestic Currency | C3: [Please insert currency]
B5: CONTENT OF TAB B3
B6: 9. Shipping Assets
A8: Field Number | B8: 9. Shipping Assets
B9: 1. General Information | C9: Shipping Loans
A10: S.9.1.1 | B10: Number of shipping loans | C10: [For completion]
A11: OS.9.1.1 | B11: Optional information eg, Number of borrowers
A12: OS.9.1.2 | B12: Optional information eg, Number of guarantors
A13: OS.9.1.3
A14: OS.9.1.4
A15: OS.9.1.5
A16: OS.9.1.6
B17: 2. Concentration Risks | C17: % Shipping Loans
A18: S.9.2.1 | B18: 10 largest exposures | C18: [For completion]
A19: OS.9.2.1
A20: OS.9.2.2
A21: OS.9.2.3
A22: OS.9.2.4
A23: OS.9.2.5
A24: OS.9.2.6
B25: 3. Breakdown by Geography / Country of Registration | C25: % Shipping Loans
A26: S.9.3.1 | B26: European Union | C26: =SUM(C27:C53) -> 0
A27: S.9.3.2 | B27: Austria | C27: [For completion]
A28: S.9.3.3 | B28: Belgium | C28: [For completion]
A29: S.9.3.4 | B29: Bulgaria | C29: [For completion]
A30: S.9.3.5 | B30: Croatia | C30: [For completion]
A31: S.9.3.6 | B31: Cyprus | C31: [For completion]
A32: S.9.3.7 | B32: Czechia | C32: [For completion]
A33: S.9.3.8 | B33: Denmark | C33: [For completion]
A34: S.9.3.9 | B34: Estonia | C34: [For completion]
A35: S.9.3.10 | B35: Finland | C35: [For completion]
A36: S.9.3.11 | B36: France | C36: [For completion]
A37: S.9.3.12 | B37: Germany | C37: [For completion]
A38: S.9.3.13 | B38: Greece | C38: [For completion]
... A53: S.9.3.28 | B53: Sweden | C53: [For completion]
A54: S.9.3.29 | B54: European Economic Area (not member of EU) | C54: =SUM(C55:C57) -> 0
A55: S.9.3.30 | B55: Iceland | C55: [For completion]
A56: S.9.3.31 | B56: Liechtenstein | C56: [For completion]
A57: S.9.3.32 | B57: Norway | C57: [For completion]
...

Sheet C. HTT Harmonised Glossary
A1: C. Harmonised Transparency Template - Glossary | C1: HTT 2026
A3: The definitions below reflect the national specificities
A5: Field Number | B5: 1. Glossary - Standard Harmonised Items | C5: Definition
A6: HG.1.1 | B6: OC Calculation: Statutory | C6: Statutory Overcollateralisation is the overcollateralisation percentage required to be provided by each Issuer and included/disclosed in the national covered bond framework.
A7: HG.1.2 | B7: OC Calculation: Contractual | C7: Contractual Overcollateralisation is the overcollateralisation percentage each Issuer has contractually agreed to maintain pursuant to the covered bond programme documents.
A8: HG.1.3 | B8: OC Calculation: Voluntary | C8: Voluntary Overcollateralisation is the difference (if positive) between the actual overcollateralisation provided by an Issuer and the higher of the contractual and statutory overcollateralisation.
A9: HG.1.4 | B9: Interest Rate Types | C9: Index Loans: These are loans where instalments and outstanding debt are adjusted with the development of an index which typically reflects trends in consumer prices. The loan type was introduced in Denmark in 1982. All Danish index loans have index semi-annual payment dates (January 1st and July 1st). Index loans are offered as cash loans. The maturity depends on the loan type. Especially the maturity for subsidized housing depends on the size of the future inflation rate. Fixed-rate loans: The long-term – typically 30-year – fixed-rate, callable loan is considered the most traditional mortgage loan. With this loan, the borrower knows in advance the fixed repayments throughout the term of the loan. The long-term fixed-rate mortgage loan has a prepayment option which may be exercised in two ways, i.e. the borrowers may prepay their outstanding debt at a price of 100 (par) or the borrowers may purchase the underlying bonds in the financial markets and deliver them to the mortgage bank. This loan type is also offered with interest-only periods. Adjustable Rate Mortgages: Adjustable-rate mortgages (ARMs) were introduced in 1996 and the main advantage of ARMs is that interest rates are generally lower than those of fixed-rate loans when raised. The interest rate is generally reset at a frequency of 1, 3, 5 or 10 years and the underlying bonds are replaced by new bonds. The yield of the new bonds determines the loan rate for the period until the next interest rate reset. The lower initial loan rate should therefore be weighed against the risk that it will increase during the loan term. An ARM may be prepaid at a price of 100 in connection with each interest rate reset. Alternatively, the borrower may prepay the loan by purchasing the bonds on market terms – as with all mortgage loans. This loan type is also offered with interest-only periods. Money market based loans: The loan rate changes at generally three or six months. In addition, this loan type differs from ARMs as this interest rate depends on a reference rate, ie an interest rate determined in another market. The reference rate of DKK-denominated loans is CIBOR (Copenhagen Interbank Offered Rate) or CITA (Copenhagen Interbank Tomorrow/Next Average ), an interest rate which is quoted daily by NASDAQ. This loan type is also offered with interest-only periods. Non Capped floaters: These are loans where the rate changes at generally three or six months. The reference rate of DKK-denominated loans is CIBOR (Copenhagen Interbank Offered Rate) or CITA (Copenhagen Interbank Tomorrow/Next Average ), an interest rate which is quoted daily by OMX NASDAQ Capped floaters: It is possible to get a loan with a floating interest rate which cannot exceed a certain level (cap). In this way, the borrower hedges against major interest rate increases. If a loan has a cap of 6%, then the interest rate can never be higher than 6%. The loan rate will track Cibor (or Euribor / Cita), as long as it does not exceed 6%. A floating-rate loan may be prepaid in two ways: either at an agreed price – typically 100 or 105 – or the borrower may buy the underlying bonds at market price. Other: Any other loan types, which not comply with the above mentioned.
A10: HG.1.5 | B10: Life of cover assets: how is it calculated? Does it only consider the final date of redemption or does it take into account scheduled redemptions for amortising assets? Is is calculated by reference to the next interest reset dates or by reference to the redemption dates ? If assets have a floating or resettable rate, which assumption do you make regarding the future applicable rate? | C10: Only contratual maturity is relevant and reported. Early repayments happens at borrowes discretion is among other thing depending on interest rate developments and cannot be anticipated by issuer.
A11: HG.1.6 | B11: Maturity Buckets of Covered Bonds [i.e. how is the contractual and/or expected maturity defined? What maturity structure (hard bullet, soft bullet, conditional pass through)? Under what conditions/circumstances? Etc.] | C11: Only contratual maturity is relevant and reported. Early repayments happens at borrowes discretion is among other thing depending on interest rate developments and cannot be anticipated by issuer.
A12: HG.1.7 | B12: Maturity Extention Triggers | C12: Base Prospectus 8 May 2024 (nykredit.com)
A13: HG.1.8 | B13: LTVs: Definition | C13: LTV is reported continuously. The loans are distributed from the start LTV of the loan to the marginal LTV. This means that, if the loan is first rank, it is distributed proportionaly by bracket size from 0 to the marginal
A14: HG.1.9 | B14: LTVs: Calculation of property/shipping value | C14: LTV is calculated as: (nominal outstanding mortgage debt at market value) divided by (current market value of the property)
A15: HG.1.10 | B15: LTVs: Applied property/shipping valuation techniques, including whether use of index, Automated Valuation Model (AVM) or on-site audits
A16: HG.1.11 | B16: LTVs: Frequency and time of last valuation | C16: Minimum once per year for commercial properties. Minimum once every third year for owner occupied properties.
A17: HG.1.12 | B17: Explain how mortgage types are defined whether for residential housing, multi-family housing, commercial real estate, etc. Same for shipping where relecvant | C17: The Danish FSA sets guidelines for the grouping of property in categories. Property type is determined by its primary use.
A18: HG.1.13 | B18: Hedging Strategy (please explain how you address interest rate and currency risk) | C18: Virtually all of Nykredit's mortgage loans are match funded.
A19: HG.1.14 | B19: Non-performing loans | C19: A loan is categorised as non-performing at the latest when the payment of instalments and/or interest is 90 days past due.
A20: HG.1.15 | B20: Valuation Method | C20: Market Value.
A21: OHG.1.1 | B21: NPV assumptions (when stated)
A22: OHG.1.2
A23: OHG.1.3
A24: OHG.1.4
A25: OHG.1.5
A26: OHG.1.6
A27: OHG.1.7
B28: 2. Glossary - ESG items (optional) | C28: Definition
A29: HG.2.1 | B29: Sustainability - strategy pursued in the cover pool | C29: A and B label/estimate or equivalent labelled properties
A30: HG.2.2 | B30: Subsidised Housing (definitions of affordable, social housing)
A31: HG.2.3 | B31: New Property and Existing Property | C31: New properties are buildings constructed within the last 5 calender years
A32: OHG.2.1 | B32: Indication of proxy usage for ESG-related data (indicator, methodology, timing, share of proxy usage for single indicators etc.)
A33: OHG.2.2
A34: OHG.2.3
A35: OHG.2.4
A36: OHG.2.5
A37: OHG.2.6
A38: OHG.2.7
A39: OHG.2.8
A40: OHG.2.9
A41: OHG.2.10
A42: OHG.2.11
...

Sheet D. Insert Nat Trans Templ

Sheet D. NTT Front page
C5: ECBC National Label Transparency Template (NTT) for Danish issuers
C6: 2026

Sheet D. NTT Contents
B5: ECBC Label Template : Contents
B7: As of | D7: 31 December 2025
B10: Specialised finance institutes
B11: General Issuer Detail
B12: A | D12: General Issuer Detail
B14: Cover Pool Information
B15: G1.1 | D15: General cover pool information
B16: G2 | D16: Outstanding CBs
B17: G2.1a-f | D17: Cover assets and maturity structure
B18: G2.2 | D18: Interest and currency risk
B19: G3 | D19: Legal ALM (balance principle) adherence
B20: G4 | D20: Additional characteristics of ALM business model for issued CBs
B22: M1/B1 | D22: Number of loans by property category
B23: M2/B2 | D23: Lending by property category, DKKm
B24: M3/B3 | D24: Lending, by loan size, DKKm
B25: M4a/B4a | D25: Lending, by-loan to-value (LTV), current property value, DKKm
B26: M4b/B4b | D26: Lending, by-loan to-value (LTV), current property value, Per cent
B27: M4c/B4c | D27: Lending, by-loan to-value (LTV), current property value, DKKm ("Sidste krone")
... B39: M12a/B12a | D39: Realised losses (%)
B43: Ship finance institutes
B44: A | D44: General Issuer Detail
B45: G1-G4 | D45: Cover pool information
B46: S1-S3 | D46: Lending
B47: S4 | D47: LTV
B48: S5 | D48: Lending by region and ship type
B49: S6-S8 | D49: Lending by ship type
B50: S9-13 | D50: Lending (Classification Societies, Size of Ships, NPL definition)
B53: Key Concepts
B54: X1 | D54: Key Concepts Explanation
B55: X2 | D55: Key Concepts Explanation
B56: X3 | D56: General explanation

Sheet D. General Issuer Details
B4: Table A. General Issuer Detail
B5: Key information regarding issuers' balance sheet
B9: (DKKm – except Tier 1 and Solvency ratio) | C9: Q3 2026
B10: Total Balance Sheet Assets | C10: 2060437.6
B11: Total Customer Loans(fair value) | C11: 1518728.8
B12: of which: Used/registered for covered bond collateral pool | C12: 1518728.8
B13: Tier 1 Ratio (%) | C13: 0.179
B14: Solvency Ratio (%) | C14: 0.21
B15: Outstanding Covered Bonds (fair value) | C15: 1463989.1
B16: Outstanding Senior Unsecured Liabilities | C16: 87807.086
B17: Senior Secured Bonds | C17: 630.05732
B18: Guarantees (e.g. provided by states, municipals, banks) | C18: 13704
B19: Net loan losses (Net loan losses and net loan loss provisions) | C19: -57.186809
B20: Value of acquired properties / ships (temporary possessions, end quarter) | C20: 608.96966
B23: Customer loans (mortgage) (DKKbn)
B24: Total customer loans (market value) | C24: 1518.7288
B25: Composition by
B27: Maturity
B28: - 0 <= 1 year | C28: 4.1564438
B29: - < 1 <= 5 years | C29: 30.386502
B30: - over 5 years | C30: 1484.1858
B31: Currency
B32: - DKK | C32: 1462.1098
B33: - EUR | C33: 28.958054
B34: - USD | C34: 0
B35: - Other | C35: 27.660939
B36: customer type
B37: - Residential (owner-occ., private rental, corporate housing, holiday houses) | C37: 1169.5223
B38: - Commercial (office and business, industry, agriculture, manufacture, social and cultural, ships) | C38: 264.26182
B39: - Subsidised | C39: 84.944675
B40: eligibility as covered bond collateral
B41: Non-performing loans (See definition in table X1) | C41: 14.276104
B42: Loan loss provisions (sum of total individual and group wise loss provisions, end of quarter) | C42: 4.8330751
F46: To Contents

Sheet D. G1-G4 - Cover pool inform.
B4: Table G1.1 – General cover pool information
B7: DKKm / Percentage of nominal outstanding CBs | F7: ='D. General Issuer Details'!C9 -> Q3 2026
B8: Nominal cover pool (total value) | F8: =F10+F13 -> 947478.7
B9: Transmission or liquidation proceeds to CB holders (for redemption of CBs maturing 0-1 day) | F9: 1
B10: Overcollateralisation | F10: ='A. HTT General'!C56 -> 26534.198
B11: Overcollateralisation ratio | C11: Total | F11: =F10/F13 -> 0.028811941
C12: Mandatory (percentage of risk weigted assets,general, by law) | F12: 0.08
B13: Nominal value of outstanding CBs | F13: ='D. Table 1-3 - Lending'!I26 -> 920944.5
C14: – hereof amount maturing 0-1 day | F14: 0
B15: Proceeds from senior secured debt | F15: 517.4353
B16: Proceeds from senior unsecured debt | F16: 0
B17: Tier 2 capital | F17: 0
A18: G1.1.1 | B18: Additional tier 1 capital (e.g. hybrid core capital) | F18: 3437.4638
A19: G1.1.2 | B19: Core tier 1 capital invested in gilt-edged securities | F19: 8588.3872
B20: Total capital coverage (rating compliant capital) | F20: =F10-F19 -> 17945.811
B22: Loan loss provisions (cover pool level - shown i Table A on issuer level) - Optional | F22: N/A
B24: Table G2 – Outstanding CBs
B26: DKKm / Percentage of nominal outstanding CBs | F26: =+F7 -> Q3 2026
B27: Nominal value of outstanding CBs | F27: =F13 -> 920944.5
A28: G2.2 | B28: Fair value of outstanding CBs (marked value) | F28: 899575.55
B29: Maturity of issued CBs | C29: 0-1 day | F29: 0
C30: 1 day – < 1 year | F30: 0
A31: G2.3.1 | C31: 1 year | F31: 0
A32: G2.3.2 | C32: > 1 and ≤ 2 years | F32: 49.081489
A33: G2.3.3 | C33: > 2 and ≤ 3 years | F33: 423.50457
A34: G2.3.4 | C34: > 3 and ≤ 4 years | F34: 1330.9236
A35: G2.3.5 | C35: > 4 and ≤ 5 years | F35: 103.88226
A36: G2.3.6 | C36: 5-10 years | F36: 16063.437
A37: G2.3.7 | C37: 10-20 years | F37: 59566.347
A38: G2.3.8 | C38: > 20 years | F38: 843407.32
A39: G2.4.1 | B39: Amortisation profile of issued CBs | C39: Bullet | F39: 0.44045522
A40: G2.4.2 | C40: Annuity | F40: 0.55954478
C41: Serial | F41: 0
B42: Interest rate profile of issued CBs | C42: Fixed rate (Fixed rate constant for more than 1 year) | F42: ='A. HTT General'!G164 -> 0
C43: Floating rate ( Floating rate constant for less than 1 year) | F43: ='A. HTT General'!G165 -> 0.97567438
C44: Capped floating rate | F44: ='A. HTT General'!G166 -> 0.02432562
B45: Currency denomination profile of issued CBs | C45: DKK | F45: ='A. HTT General'!G144 -> 0.93617236
C46: EUR | F46: ='A. HTT General'!G138 -> 0.031968078
C47: SEK | F47: ='A. HTT General'!G126 -> 0
C48: CHF
...

Sheet D. Table 1-3 - Lending
B5: Property categories are defined according to Danish FSA's AS-reporting form
B7: Table M1/B1
B9: Number of loans by property category
C10: Owner-occupied homes | D10: Holiday houses | E10: Subsidised Housing | F10: Cooperative Housing | G10: Private rental | H10: Manufacturing and Manual Industries | I10: Office and Business | J10: Agriculture | K10: Social and cultural purposes | L10: Other | M10: Total
A11: M1 | B11: Total | C11: 296858 | D11: 29695 | E11: 329 | F11: 1362 | G11: 16625 | H11: 1428 | I11: 6872 | J11: 11481 | K11: 422 | L11: 434 | M11: =SUM(C11:L11) -> 365506
B12: In % | C12: =C11/$M$11 -> 0.81218366 | D12: =D11/$M$11 -> 0.081243536 | E12: =E11/$M$11 -> 0.00090012202 | F12: =F11/$M$11 -> 0.003726341 | G12: =G11/$M$11 -> 0.045484889 | H12: =H11/$M$11 -> 0.0039069126 | I12: =I11/$M$11 -> 0.018801333 | J12: =J11/$M$11 -> 0.031411249 | ... L12: =L11/$M$11 -> 0.001187395 | M12: =SUM(C12:L12) -> 1
B14: Table M2/B2
F15: 15.694
B16: Lending by property category, DKKm
C17: Owner-occupied homes | D17: Holiday houses | E17: Subsidised Housing | F17: Cooperative Housing | G17: Private rental | H17: Manufacturing and Manual Industries | I17: Office and Business | J17: Agriculture | K17: Social and cultural purposes | L17: Other | M17: Total
A18: M2 | B18: Total | C18: 533341.5 | D18: 34300.101 | E18: 2287.4008 | F18: 10399.843 | G18: 149945.37 | H18: 20366.727 | I18: 102052.91 | J18: 54456.179 | K18: 4761.7706 | L18: 9032.6966 | M18: =SUM(C18:L18) -> 920944.5
B19: In % | C19: =C18/$M$18 -> 0.57912448 | D19: =D18/$M$18 -> 0.037244483 | E19: =E18/$M$18 -> 0.0024837554 | F19: =F18/$M$18 -> 0.011292584 | G19: =G18/$M$18 -> 0.16281694 | H19: =H18/$M$18 -> 0.022115043 | I19: =I18/$M$18 -> 0.11081331 | J19: =J18/$M$18 -> 0.059130794 | ... L19: =L18/$M$18 -> 0.0098080792 | M19: =SUM(C19:L19) -> 1
B21: Table M3/B3
B23: Lending, by loan size, DKKm
C25: DKK 0 - 2m | D25: DKK 2 - 5m | E25: DKK 5 - 20m | F25: DKK 20 - 50m | G25: DKK 50 - 100m | H25: > DKK 100m | I25: Total
A26: M3 | B26: Total | C26: 238836.17 | D26: 306542.85 | E26: 149733.28 | F26: 48397.246 | G26: 33424.258 | H26: 144010.69 | I26: =SUM(C26:H26) -> 920944.5
B27: In % | C27: =C26/$I$26 -> 0.25933829 | D27: =D26/$I$26 -> 0.33285703 | E27: =E26/$I$26 -> 0.16258665 | F27: =F26/$I$26 -> 0.052551751 | G27: =G26/$I$26 -> 0.036293455 | H27: =H26/$I$26 -> 0.15637282 | I27: =SUM(C27:H27) -> 1
N29: To Contents

Sheet D. Table 4 - LTV
B5: Table M4a/B4a
B7: Lending, by-loan to-value (LTV), current property value, DKKm
C8: Per cent
C9: 0 - 19,9 | D9: 20 - 39,9 | E9: 40 - 59,9 | F9: 60 - 69,9 | G9: 70 - 79,9 | H9: 80 - 84,9 | I9: 85 - 89,9 | J9: 90 - 94,9 | K9: 95 - 100 | L9: > 100
A11: M4a.1 | B11: Owner-occupied homes | C11: 204625.16 | D11: 180416.37 | E11: 111374.85 | F11: 25036.399 | G11: 10706.75 | H11: 655.93411 | I11: 194.44036 | J11: 92.504931 | K11: 58.899496 | L11: 180.19424 | N11: =SUM(C11:M11) -> 533341.5
A12: M4a.2 | B12: Holiday houses | C12: 15388.862 | D12: 11905.654 | E12: 5766.8934 | F12: 1048.7639 | G12: 178.0541 | H12: 2.6235624 | I12: 1.5851402 | J12: 1.2250553 | K12: 0.98640433 | L12: 5.454419 | N12: =SUM(C12:M12) -> 34300.101
A13: M4a.3 | B13: Subsidised Housing | C13: 1142.4421 | D13: 592.85096 | E13: 316.06211 | F13: 68.131478 | G13: 56.20754 | H13: 27.828158 | I13: 24.954326 | J13: 18.294431 | K13: 14.302272 | L13: 26.327432 | N13: =SUM(C13:M13) -> 2287.4008
A14: M4a.4 | B14: Cooperative Housing | C14: 4211.4205 | D14: 3821.3589 | E14: 1938.2197 | F14: 252.1799 | G14: 125.56885 | H14: 23.087523 | I14: 13.648118 | J14: 7.1088767 | K14: 3.2348099 | L14: 4.0157271 | N14: =SUM(C14:M14) -> 10399.843
A15: M4a.5 | B15: Private rental | C15: 55653.668 | D15: 54103.977 | E15: 35905.839 | F15: 3240.2762 | G15: 730.11351 | H15: 78.979777 | I15: 48.536158 | J15: 36.580439 | K15: 31.885607 | L15: 107.75716 | N15: =SUM(C15:M15) -> 149937.61
A16: M4a.6 | B16: Manufacturing and Manual Industries | C16: 10255.552 | D16: 7911.4902 | E16: 2165.0576 | F16: 15.548958 | G16: 4.728785 | H16: 2.0025392 | I16: 1.9985793 | J16: 1.9985793 | K16: 1.2933209 | L16: 7.0570778 | N16: =SUM(C16:M16) -> 20366.727
A17: M4a.7 | B17: Office and Business | C17: 49637.426 | D17: 38996.421 | E17: 12972.858 | F17: 342.44756 | G17: 63.384794 | H17: 5.714389 | I17: 5.0361715 | J17: 4.6258369 | K17: 4.2868735 | L17: 20.708959 | N17: =SUM(C17:M17) -> 102052.91
A18: M4a.8 | B18: Agricultutal properties | C18: 26011.089 | D18: 22541.766 | E18: 5668.7037 | F18: 125.08191 | G18: 35.936311 | H18: 10.134743 | I18: 9.0494756 | J18: 7.7322308 | K18: 7.1434969 | L18: 39.542544 | N18: =SUM(C18:M18) -> 54456.179
A19: M4a.9 | B19: Properties for social and cultural purposes | C19: 2686.8104 | D19: 1509.3008 | E19: 397.70987 | F19: 13.077031 | G19: 6.7078564 | H19: 3.2625361 | I19: 2.8663082 | J19: 2.8606557 | K19: 2.6215943 | L19: 136.07043 | N19: =SUM(C19:M19) -> 4761.2875
A20: M4a.10 | B20: Other | C20: 4765.601 | D20: 3364.0304 | E20: 816.30856 | F20: 77.147871 | G20: 5.950125 | H20: 1.6218063 | I20: 1.0389217 | J20: 0.31828068 | K20: 0.21164197 | L20: 0.46794636 | N20: =SUM(C20:M20) -> 9032.6966
N21: =SUM(C21:M21) -> 0
B22: Total | C22: =SUM(C11:C21) -> 374378.03 | D22: =SUM(D11:D21) -> 325163.22 | E22: =SUM(E11:E21) -> 177322.5 | F22: =SUM(F11:F21) -> 30219.053 | G22: =SUM(G11:G21) -> 11913.402 | H22: =SUM(H11:H21) -> 811.18914 | I22: =SUM(I11:I21) -> 303.15356 | J22: =SUM(J11:J21) -> 173.24932 | ... L22: =SUM(L11:L21) -> 527.59593 | N22: =SUM(C22:M22) -> 920936.26
B27: Table M4b/B4b
B29: Lending, by-loan to-value (LTV), current property value, per cent
C30: Per cent
C31: 0 - 19,9 | D31: 20 - 39,9 | E31: 40 - 59,9 | F31: 60 - 69,9 | G31: 70 - 79,9 | H31: 80 - 84,9 | I31: 85 - 89,9 | J31: 90 - 94,9 | K31: 95 - 100 | L31: > 100
B33: Owner-occupied homes | C33: =C11/$N$11 -> 0.38366629 | D33: =D11/$N$11 -> 0.33827551 | E33: =E11/$N$11 -> 0.20882465 | F33: =F11/$N$11 -> 0.046942528 | G33: =G11/$N$11 -> 0.02007485 | H33: =H11/$N$11 -> 0.0012298576 | I33: =I11/$N$11 -> 0.00036457009 | J33: =J11/$N$11 -> 0.00017344409 | ... L33: =L11/$N$11 -> 0.00033785902
B34: Holiday houses | C34: =C12/$N$12 -> 0.44865354 | D34: =D12/$N$12 -> 0.34710258 | E34: =E12/$N$12 -> 0.1681305 | F34: =F12/$N$12 -> 0.030576115 | G34: =G12/$N$12 -> 0.0051910663 | H34: =H12/$N$12 -> 7.6488472e-05 | I34: =I12/$N$12 -> 4.6213863e-05 | J34: =J12/$N$12 -> 3.5715792e-05 | ... L34: =L12/$N$12 -> 0.00015902049
B35: Subsidised Housing | C35: =C13/$N$13 -> 0.49944991 | D35: =D13/$N$13 -> 0.25918105 | E35: =E13/$N$13 -> 0.13817522 | F35: =F13/$N$13 -> 0.029785544 | G35: =G13/$N$13 -> 0.024572667 | H35: =H13/$N$13 -> 0.012165842 | I35: =I13/$N$13 -> 0.010909468 | J35: =J13/$N$13 -> 0.0079979122 | ... L35: =L13/$N$13 -> 0.011509759
B36: Cooperative Housing | C36: =C14/$N$14 -> 0.40495039 | D36: =D14/$N$14 -> 0.3674439 | E36: =E14/$N$14 -> 0.1863701 | F36: =F14/$N$14 -> 0.024248433 | G36: =G14/$N$14 -> 0.01207411 | H36: =H14/$N$14 -> 0.0022199877 | I36: =I14/$N$14 -> 0.0013123389 | J36: =J14/$N$14 -> 0.00068355617 | ... L36: =L14/$N$14 -> 0.00038613344
B37: Private rental | C37: =C15/$N$15 -> 0.37117883 | D37: =D15/$N$15 -> 0.36084326 | E37: =E15/$N$15 -> 0.23947186 | F37: =F15/$N$15 -> 0.02161083 | G37: =G15/$N$15 -> 0.0048694486 | H37: =H15/$N$15 -> 0.00052675093 | I37: =I15/$N$15 -> 0.00032370902 | J37: =J15/$N$15 -> 0.00024397106 | ... L37: =L15/$N$15 -> 0.00071867996
B38: Manufacturing and Manual Industries | C38: =C16/$N$16 -> 0.50354441 | D38: =D16/$N$16 -> 0.38845172 | E38: =E16/$N$16 -> 0.10630366 | F38: =F16/$N$16 -> 0.00076344904 | G38: =G16/$N$16 -> 0.00023218188 | H38: =H16/$N$16 -> 9.8324052e-05 | I38: =I16/$N$16 -> 9.8129623e-05 | J38: =J16/$N$16 -> 9.8129623e-05 | ... L38: =L16/$N$16 -> 0.00034650034
B39: Office and Business | C39: =C17/$N$17 -> 0.48638913 | D39: =D17/$N$17 -> 0.38211964 | E39: =E17/$N$17 -> 0.12711894 | F39: =F17/$N$16 -> 0.016814069 | G39: =G17/$N$17 -> 0.00062109738 | H39: =H17/$N$17 -> 5.5994377e-05 | I39: =I17/$N$17 -> 4.9348633e-05 | J39: =J17/$N$17 -> 4.532783e-05 | K39: =K17/$N$17 -> 4.2006382e-05 | L39: =L17/$N$17 -> 0.00020292375
B40: Agricultutal properties | C40: =C18/$N$18 -> 0.47765174 | D40: =D18/$N$18 -> 0.41394322 | E40: =E18/$N$18 -> 0.10409661 | F40: =F18/$N$16 -> 0.0061414832 | G40: =G18/$N$18 -> 0.00065991246 | H40: =H18/$N$18 -> 0.00018610824 | I40: =I18/$N$18 -> 0.00016617904 | J40: =J18/$N$18 -> 0.00014198996 | K40: =K18/$N$18 -> 0.00013117881 | L40: =L18/$N$18 -> 0.00072613511
B41: Properties for social and cultural purposes | C41: =C19/$N$19 -> 0.56430333 | D41: =D19/$N$19 -> 0.31699426 | E41: =E19/$N$19 -> 0.0835299 | F41: =F19/$N$19 -> 0.0027465326 | G41: =G19/$N$19 -> 0.0014088325 | H41: =H19/$N$19 -> 0.0006852214 | I41: =I19/$N$19 -> 0.00060200275 | J41: =J19/$N$19 -> 0.00060081557 | ... L41: =L19/$N$19 -> 0.028578494
B42: Other | C42: =C20/$N$20 -> 0.5275945 | D42: =D20/$N$20 -> 0.37242814 | E42: =E20/$N$20 -> 0.090372631 | F42: =F20/$N$20 -> 0.0085409568 | G42: =G20/$N$20 -> 0.00065873186 | H42: =H20/$N$20 -> 0.00017954841 | I42: =I20/$N$20 -> 0.0001150179 | J42: =J20/$N$20 -> 3.5236508e-05 | ... L42: =L20/$N$20 -> 5.1805832e-05
B44: Total | C44: =C22/$N$22 -> 0.40651894 | D44: =D22/$N$22 -> 0.35307896 | E44: =E22/$N$22 -> 0.1925459 | F44: =F22/$N$22 -> 0.032813404 | G44: =G22/$N$22 -> 0.012936186 | H44: =H22/$N$22 -> 0.00088083093 | I44: =I22/$N$22 -> 0.00032917974 | J44: =J22/$N$22 -> 0.00018812303 | ... L44: =L22/$N$22 -> 0.00057289082
B49: Table M4c/B4c
B51: Lending, by-loan to-value (LTV), current property value, DKKm (Entire loan entered in the top LTV bracket)
C52: Per cent
C53: 0 - 19,9 | D53: 20 - 39,9 | E53: 40 - 59,9 | F53: 60 - 69,9 | G53: 70 - 79,9 | H53: 80 - 84,9 | I53: 85 - 89,9 | J53: 90 - 94,9 | K53: 95 - 100 | L53: > 100 | N53: Avg. LTV
A55: M4c.1 | B55: Owner-occupied homes | C55: 9251.8861 | D55: 80851.059 | E55: 212034.04 | F55: 99886.952 | G55: 106056.46 | H55: 19745.881 | I55: 3202.4831 | J55: 869.24419 | K55: 401.00825 | L55: 1042.4863 | N55: 0.56631469 | P55: =C55+D55+E55+F55+G55+H55+I55+J55+K55+L55 -> 533341.5
A56: M4c.2 | B56: Holiday houses | C56: 1127.75 | D56: 9175.0918 | E56: 13545.673 | F56: 6348.4459 | G56: 4037.4242 | H56: 29.371471 | I56: 4.1579814 | J56: 6.1111486 | K56: 4.7810697 | L56: 21.294878 | N56: 0.49858498 | P56: =C56+D56+E56+F56+G56+H56+I56+J56+K56+L56 -> 34300.101
A57: M4c.3 | B57: Subsidised Housing | C57: 460.48203 | D57: 595.14454 | E57: 735.13322 | F57: 106.89769 | G57: 7.1452267 | H57: 0.17199424 | I57: 108.38749 | J57: 98.063683 | K57: 0.11065186 | L57: 175.86432 | N57: 0.45720826 | P57: =C57+D57+E57+F57+G57+H57+I57+J57+K57+L57 -> 2287.4008
A58: M4c.4 | B58: Cooperative Housing | C58: 1022.4545 | D58: 2634.1248 | E58: 4363.9452 | F58: 1269.0016 | G58: 584.70248 | H58: 271.8974 | I58: 79.805251 | J58: 57.087708 | K58: 84.50174 | L58: 32.322124 | N58: 0.46936087 | P58: =C58+D58+E58+F58+G58+H58+I58+J58+K58+L58 -> 10399.843
A59: M4c.5 | B59: Private rental | C59: 1154.923 | D59: 14656.695 | E59: 93085.862 | F59: 31391.213 | G59: 7484.158 | H59: 1012.1045 | I59: 283.54762 | J59: 93.500618 | K59: 88.389404 | L59: 694.9757 | N59: 0.54571601 | P59: =C59+D59+E59+F59+G59+H59+I59+J59+K59+L59 -> 149945.37
...

Sheet D. Table 5 - Region
B5: Table M5/B5 - Total
B7: Lending by region, DKKm
C9: Greater Copenhagen area (Region Hovedstaden) | D9: Remaining Zealand & Bornholm (Region Sjælland) | E9: Northern Jutland (Region Nordjylland) | F9: Eastern Jutland (Region Midtjylland) | G9: Southern Jutland & Funen (Region Syddanmark) | H9: Outside Denmark | I9: Total
A11: M5.1 | B11: Owner-occupied homes | C11: 193955.26 | D11: 59171.26 | E11: 57592.782 | F11: 124470.92 | G11: 91682.721 | H11: 6468.556 | I11: =SUM(C11:H11) -> 533341.5
A12: M5.2 | B12: Holiday houses | C12: 6651.106 | D12: 6639.4066 | E12: 6421.773 | F12: 7637.6139 | G12: 6942.2894 | H12: 7.912576 | I12: =SUM(C12:H12) -> 34300.101
A13: M5.3 | B13: Subsidised Housing | C13: 294.64584 | D13: 255.15406 | E13: 375.69795 | F13: 920.05838 | G13: 441.84461 | H13: 0 | I13: =SUM(C13:H13) -> 2287.4008
A14: M5.4 | B14: Cooperative Housing | C14: 4769.7328 | D14: 1115.7627 | E14: 1651.0275 | F14: 1548.3752 | G14: 1314.9446 | H14: 0 | I14: =SUM(C14:H14) -> 10399.843
A15: M5.5 | B15: Private rental | C15: 59350.473 | D15: 8931.3671 | E15: 8780.9103 | F15: 28101.496 | G15: 16228.221 | H15: 28552.902 | I15: =SUM(C15:H15) -> 149945.37
A16: M5.6 | B16: Manufacturing and Manual Industries | C16: 3159.0433 | D16: 1074.153 | E16: 1089.3292 | F16: 6579.9097 | G16: 4184.3728 | H16: 4279.9192 | I16: =SUM(C16:H16) -> 20366.727
A17: M5.7 | B17: Office and Business | C17: 40495.516 | D17: 7534.9833 | E17: 7869.6678 | F17: 12765.692 | G17: 8743.2344 | H17: 24643.815 | I17: =SUM(C17:H17) -> 102052.91
A18: M5.8 | B18: Agricultural properties | C18: 896.71684 | D18: 9573.2977 | E18: 14017.15 | F18: 16218.25 | G18: 13719.28 | H18: 31.484367 | I18: =SUM(C18:H18) -> 54456.179
A19: M5.9 | B19: Properties for social and cultural purposes | C19: 2861.2202 | D19: 240.44495 | E19: 167.66208 | F19: 916.36547 | G19: 457.04701 | H19: 119.03083 | I19: =SUM(C19:H19) -> 4761.7706
A20: M5.10 | B20: Other | C20: 2838.1818 | D20: 1564.3775 | E20: 502.59053 | F20: 1558.3598 | G20: 2343.0986 | H20: 226.0883 | I20: =SUM(C20:H20) -> 9032.6966
B22: Total | C22: =SUM(C11:C21) -> 315271.9 | D22: =SUM(D11:D21) -> 96100.207 | E22: =SUM(E11:E21) -> 98468.591 | F22: =SUM(F11:F21) -> 200717.04 | G22: =SUM(G11:G21) -> 146057.05 | H22: =SUM(H11:H21) -> 64329.708 | I22: =SUM(I11:I21) -> 920944.5
B25: Tables M5x below are distributed by issuer's choice. Must sum to column "Outside Denmark" in table M5
B27: Table M5a - Outside Denmark
B29: Lending by region, DKKm
C31: Finland | D31: France | E31: Germany | F31: Norway | G31: Poland | H31: Spain | I31: Sweden | J31: United Kingdom | K31: Greenland & Faroe Islands
A33: M5a.1 | B33: Owner-occupied homes | C33: 0 | D33: 2656.7063 | E33: 16.834138 | F33: 0 | G33: 0 | H33: 3786.2968 | I33: 0 | J33: 0 | K33: 8.7187242
A34: M5a.2 | B34: Holiday houses | C34: 0 | D34: 0 | E34: 0 | F34: 0 | G34: 0 | H34: 7.912576 | I34: 0 | J34: 0 | K34: 0
A35: M5a.3 | B35: Subsidised Housing | C35: 0 | D35: 0 | E35: 0 | F35: 0 | G35: 0 | H35: 0 | I35: 0 | J35: 0 | K35: 0
A36: M5a.4 | B36: Cooperative Housing | C36: 0 | D36: 0 | E36: 0 | F36: 0 | G36: 0 | H36: 0 | I36: 0 | J36: 0 | K36: 0
A37: M5a.5 | B37: Private rental | C37: 2062.259 | D37: 0 | E37: 13393.238 | F37: 0 | G37: 0 | H37: 0 | I37: 12971.415 | J37: 0 | K37: 125.98988
A38: M5a.6 | B38: Manufacturing and Manual Industries | C38: 375.79888 | D38: 0 | E38: 1817.6486 | F38: 0 | G38: 0 | H38: 0 | I38: 1647.9622 | J38: 207.25922 | K38: 231.25032
A39: M5a.7 | B39: Office and Business | C39: 2796.7954 | D39: 0 | E39: 507.1969 | F39: 0 | G39: 0 | H39: 0 | I39: 18275.554 | J39: 2923.9572 | K39: 140.312
A40: M5a.8 | B40: Agricultural properties | C40: 0 | D40: 0 | E40: 0 | F40: 0 | G40: 0 | H40: 0 | I40: 0 | J40: 31.484367 | K40: 0
A41: M5a.9 | B41: Properties for social and cultural purposes | C41: 0 | D41: 0 | E41: 0 | F41: 0 | G41: 0 | H41: 0 | I41: 0 | J41: 0 | K41: 119.03083
A42: M5a.10 | B42: Other | C42: 0 | D42: 0 | E42: 14.803556 | F42: 0 | G42: 0 | H42: 0 | I42: 211.28475 | J42: 0 | K42: 0
